BEGIN:VCALENDAR
VERSION:2.0
PRODID:-//hacksw/handcal//NONSGML v1.0//EN
BEGIN:VEVENT
SUMMARY:MARCHE NORDIQUE - MN2 - Michele Lefebvre
UID:c0c69100-8f7a-4dbc-8d9c-f0529be2052e
DTSTART:20260422T064500Z
DTEND:20260422T090000Z
LOCATION:Localisation   
CATEGORIES:Sportif
STATUS:
DESCRIPTION:<p><strong>ANIMATRICE </strong>: Michele LEFEBVRE -
 0620572006</p>
 
 <p>RENDEZ AU PARKING DU BARRAGE DE BIMONT
 <u><strong>A 8H45</strong> </u> COORDONEES GPS : N 43.54181 / E
 5.53292</p>
 
 <p>MN : 8,30 KMS - DENIVELE : 255 M</p>
 
 <p>DE BIMONT
 NOUS REJOINDRONS  LES RIVES DU LAC ZOLA  PAR LA PETITE BETONNEE ET,
 RETOUR PAR BIBEMUS </p>
 
 <p> </p>
 
 <p> </p>
URL;VALUE=URI:https://www.aeprandoaix.com/evenements/2026/04/22/marche-nordique-mn2-michele-lefebvre-2442729
END:VEVENT
END:VCALENDAR
