BEGIN:VCALENDAR
VERSION:2.0
PRODID:-//hacksw/handcal//NONSGML v1.0//EN
BEGIN:VEVENT
SUMMARY:Le camp de Mus par St Paul lez Durance P2T1
UID:c14e1f04-70aa-4960-a2e2-92cf64abacab
DTSTART:20260328T230000Z
DTEND:20260329T230000Z
LOCATION:Localisation   
CATEGORIES:Sportif
STATUS:
DESCRIPTION:<p>Animateur : Christine Gillo </p>
 
 <p>Telephone
 ☎️  06 88 23 91 80 </p>
 
 <p>Description de la randonnee
 :</p>
 
 <p>Randonnee reconnaissance au-dessus de St Paul lez Durance 
 avec en perspective l ancien village medieval de St Paul lez Durance,
 appele San Peyre.</p>
 
 <p>Nous emprunterons des  petits sentiers de
 chasseurs, du Gr.</p>
 
 <p>Nous grimperons et la cerise sur le gateau,
 les sommets enneiges des Alpes, la montagne de Lure, le Chiran, le
 Cousson..</p>
 
 <p>Le retour se fera par le vallon de
 Bigot.</p>
 
 <p>Caracteristiques techniques :</p>
 
 <p>Distance : 17
 km</p>
 
 <p>Denivele : 690 m </p>
 
 <p>Duree :
 5h30 </p>
 
 <p>Rendez-vous pour le covoiturage :</p>
 
 <p>Parking des
 Platanes Stade Joelle Chevalier </p>
 
 <p>Heure de depart :
 9h</p>
 
 <p>Tarif de covoiturage : 4,80€</p>
 
 <p>Trajet routier au
 choix du chauffeur.</p>
URL;VALUE=URI:https://www.aeprandoaix.com/evenements/2026/03/29/le-camp-de-mus-par-st-paul-lez-durance-p2t1-2434842
END:VEVENT
END:VCALENDAR
